BEGIN:VCALENDAR
VERSION:2.0
PRODID:-//Florida West Coast District Shuffleboard Association - ECPv6.15.20//NONSGML v1.0//EN
CALSCALE:GREGORIAN
METHOD:PUBLISH
X-WR-CALNAME:Florida West Coast District Shuffleboard Association
X-ORIGINAL-URL:https://westcoastfsa.com
X-WR-CALDESC:Events for Florida West Coast District Shuffleboard Association
REFRESH-INTERVAL;VALUE=DURATION:PT1H
X-Robots-Tag:noindex
X-PUBLISHED-TTL:PT1H
BEGIN:VTIMEZONE
TZID:America/New_York
BEGIN:DAYLIGHT
TZOFFSETFROM:-0500
TZOFFSETTO:-0400
TZNAME:EDT
DTSTART:20240310T070000
END:DAYLIGHT
BEGIN:STANDARD
TZOFFSETFROM:-0400
TZOFFSETTO:-0500
TZNAME:EST
DTSTART:20241103T060000
END:STANDARD
BEGIN:DAYLIGHT
TZOFFSETFROM:-0500
TZOFFSETTO:-0400
TZNAME:EDT
DTSTART:20250309T070000
END:DAYLIGHT
BEGIN:STANDARD
TZOFFSETFROM:-0400
TZOFFSETTO:-0500
TZNAME:EST
DTSTART:20251102T060000
END:STANDARD
BEGIN:DAYLIGHT
TZOFFSETFROM:-0500
TZOFFSETTO:-0400
TZNAME:EDT
DTSTART:20260308T070000
END:DAYLIGHT
BEGIN:STANDARD
TZOFFSETFROM:-0400
TZOFFSETTO:-0500
TZNAME:EST
DTSTART:20261101T060000
END:STANDARD
BEGIN:DAYLIGHT
TZOFFSETFROM:-0500
TZOFFSETTO:-0400
TZNAME:EDT
DTSTART:20270314T070000
END:DAYLIGHT
BEGIN:STANDARD
TZOFFSETFROM:-0400
TZOFFSETTO:-0500
TZNAME:EST
DTSTART:20271107T060000
END:STANDARD
END:VTIMEZONE
BEGIN:VEVENT
DTSTART;VALUE=DATE:20260321
DTEND;VALUE=DATE:20260322
DTSTAMP:20260420T111142
CREATED:20250214T124920Z
LAST-MODIFIED:20250214T124920Z
UID:10000212-1774051200-1774137599@westcoastfsa.com
SUMMARY:D04 Am Singles (AM points) (Sat)
DESCRIPTION:District (D) shuffleboard tournament\, hosted by the West Coast District of the FSA.
URL:https://westcoastfsa.com/event/d04-am-singles-am-points-sat/
LOCATION:St Petersburg Shuffleboard Club\, 559 Mirror Lake Dr. North\, St. Petersburg\, Florida\, 33701
CATEGORIES:WCD Tournament
END:VEVENT
BEGIN:VEVENT
DTSTART;VALUE=DATE:20260307
DTEND;VALUE=DATE:20260309
DTSTAMP:20260420T111142
CREATED:20250214T125021Z
LAST-MODIFIED:20250214T125021Z
UID:10000215-1772841600-1773014399@westcoastfsa.com
SUMMARY:L04 Mirror Lake Championship
DESCRIPTION:Local (L) shuffleboard tournament\, hosted by the West Coast District of the FSA.
URL:https://westcoastfsa.com/event/l04-mirror-lake-championship/
LOCATION:St Petersburg Shuffleboard Club\, 559 Mirror Lake Dr. North\, St. Petersburg\, Florida\, 33701
CATEGORIES:Local Tournament
END:VEVENT
BEGIN:VEVENT
DTSTART;VALUE=DATE:20260302
DTEND;VALUE=DATE:20260305
DTSTAMP:20260420T111142
CREATED:20250214T125123Z
LAST-MODIFIED:20250214T125123Z
UID:10000224-1772409600-1772668799@westcoastfsa.com
SUMMARY:P22B M/L Doubles
DESCRIPTION:FSA State Open Pro (P) shuffleboard tournament\, hosted by the West Coast District of the FSA.
URL:https://westcoastfsa.com/event/p22b-m-l-doubles/
LOCATION:St Petersburg Shuffleboard Club\, 559 Mirror Lake Dr. North\, St. Petersburg\, Florida\, 33701
CATEGORIES:Florida State Pro Tournament
END:VEVENT
BEGIN:VEVENT
DTSTART;VALUE=DATE:20260226
DTEND;VALUE=DATE:20260228
DTSTAMP:20260420T111142
CREATED:20250214T124719Z
LAST-MODIFIED:20250214T124719Z
UID:10000206-1772064000-1772236799@westcoastfsa.com
SUMMARY:AR21 No 2 Pros (no points)
DESCRIPTION:Area (AR) shuffleboard tournament\, hosted by the West Coast District of the FSA.
URL:https://westcoastfsa.com/event/ar21-no-2-pros-no-points/
LOCATION:St Petersburg Shuffleboard Club\, 559 Mirror Lake Dr. North\, St. Petersburg\, Florida\, 33701
CATEGORIES:WCD Tournament
END:VEVENT
BEGIN:VEVENT
DTSTART;VALUE=DATE:20260117
DTEND;VALUE=DATE:20260119
DTSTAMP:20260420T111142
CREATED:20250214T125022Z
LAST-MODIFIED:20250214T125022Z
UID:10000217-1768608000-1768780799@westcoastfsa.com
SUMMARY:N05 US Nationals Open Dbls (no points) Sam Allen Memorial
DESCRIPTION:USA National (N) shuffleboard tournament\, hosted by the USA National Shuffleboard Association\, in the West Coast District of the FSA.
URL:https://westcoastfsa.com/event/n05-us-nationals-open-dbls-no-points-sam-allen-memorial/
LOCATION:St Petersburg Shuffleboard Club\, 559 Mirror Lake Dr. North\, St. Petersburg\, Florida\, 33701
CATEGORIES:USA National Tournament
END:VEVENT
BEGIN:VEVENT
DTSTART;VALUE=DATE:20260112
DTEND;VALUE=DATE:20260115
DTSTAMP:20260420T111142
CREATED:20250214T125123Z
LAST-MODIFIED:20250214T125123Z
UID:10000223-1768176000-1768435199@westcoastfsa.com
SUMMARY:P15B Any Doubles
DESCRIPTION:FSA State Open Pro (P) shuffleboard tournament\, hosted by the West Coast District of the FSA.
URL:https://westcoastfsa.com/event/p15b-any-doubles/
LOCATION:St Petersburg Shuffleboard Club\, 559 Mirror Lake Dr. North\, St. Petersburg\, Florida\, 33701
CATEGORIES:Florida State Pro Tournament
END:VEVENT
BEGIN:VEVENT
DTSTART;VALUE=DATE:20260102
DTEND;VALUE=DATE:20260104
DTSTAMP:20260420T111142
CREATED:20250214T124720Z
LAST-MODIFIED:20250214T124720Z
UID:10000209-1767312000-1767484799@westcoastfsa.com
SUMMARY:D01 Pro Singles / Am Singles (AM points) (Fri/Sat)
DESCRIPTION:District (D) shuffleboard tournament\, hosted by the West Coast District of the FSA.
URL:https://westcoastfsa.com/event/d01-pro-singles-am-singles-am-points-fri-sat/
LOCATION:St Petersburg Shuffleboard Club\, 559 Mirror Lake Dr. North\, St. Petersburg\, Florida\, 33701
CATEGORIES:WCD Tournament
END:VEVENT
BEGIN:VEVENT
DTSTART;TZID=America/New_York:20251112T113000
DTEND;TZID=America/New_York:20251112T133000
DTSTAMP:20260420T111142
CREATED:20251022T010323Z
LAST-MODIFIED:20251022T010323Z
UID:10000243-1762947000-1762954200@westcoastfsa.com
SUMMARY:WCD Board Meeting
DESCRIPTION:Open Board Meeting of the West Coast District of the Florida Shuffleboard Association. 11:30 AM to about 1:30pm. At St Pete Shuffleboard Club.
URL:https://westcoastfsa.com/event/wcd-board-meeting/
LOCATION:St Petersburg Shuffleboard Club\, 559 Mirror Lake Dr. North\, St. Petersburg\, Florida\, 33701
END:VEVENT
BEGIN:VEVENT
DTSTART;VALUE=DATE:20251030
DTEND;VALUE=DATE:20251101
DTSTAMP:20260420T111142
CREATED:20250309T204145Z
LAST-MODIFIED:20250309T204519Z
UID:10000227-1761782400-1761955199@westcoastfsa.com
SUMMARY:AR07 Pro Draw Dbls
DESCRIPTION:Area (AR) shuffleboard tournament\, hosted by the West Coast District of the FSA.
URL:https://westcoastfsa.com/event/ar07-pro-draw-dbls/
LOCATION:St Petersburg Shuffleboard Club\, 559 Mirror Lake Dr. North\, St. Petersburg\, Florida\, 33701
CATEGORIES:WCD Tournament
END:VEVENT
BEGIN:VEVENT
DTSTART;VALUE=DATE:20251030
DTEND;VALUE=DATE:20251101
DTSTAMP:20260420T111142
CREATED:20250214T124110Z
LAST-MODIFIED:20250214T124110Z
UID:10000180-1761782400-1761955199@westcoastfsa.com
SUMMARY:A03 Any Doubles  75 Pts/12 Frames (Thur-Fri.)
DESCRIPTION:FSA State Amateur (A) shuffleboard tournament\, hosted by the West Coast District of the FSA.
URL:https://westcoastfsa.com/event/a03-any-doubles-75-pts-12-frames-thur-fri/
LOCATION:St Petersburg Shuffleboard Club\, 559 Mirror Lake Dr. North\, St. Petersburg\, Florida\, 33701
CATEGORIES:Florida State Amateur Tournament
END:VEVENT
BEGIN:VEVENT
DTSTART;VALUE=DATE:20250918
DTEND;VALUE=DATE:20250920
DTSTAMP:20260420T111142
CREATED:20250214T124114Z
LAST-MODIFIED:20250214T124114Z
UID:10000186-1758153600-1758326399@westcoastfsa.com
SUMMARY:AR01 Open Doubles (no points)
DESCRIPTION:Area (AR) shuffleboard tournament\, hosted by the West Coast District of the FSA.
URL:https://westcoastfsa.com/event/ar01-open-doubles-no-points/
LOCATION:St Petersburg Shuffleboard Club\, 559 Mirror Lake Dr. North\, St. Petersburg\, Florida\, 33701
CATEGORIES:WCD Tournament
END:VEVENT
BEGIN:VEVENT
DTSTART;VALUE=DATE:20250322
DTEND;VALUE=DATE:20250323
DTSTAMP:20260420T111142
CREATED:20240828T014309Z
LAST-MODIFIED:20240828T033119Z
UID:10000069-1742601600-1742687999@westcoastfsa.com
SUMMARY:AM Singles (AM points)
DESCRIPTION:D04**
URL:https://westcoastfsa.com/event/am-singles-am-points/
LOCATION:St Petersburg Shuffleboard Club\, 559 Mirror Lake Dr. North\, St. Petersburg\, Florida\, 33701
CATEGORIES:WCD Tournament
END:VEVENT
BEGIN:VEVENT
DTSTART;VALUE=DATE:20250306
DTEND;VALUE=DATE:20250308
DTSTAMP:20260420T111142
CREATED:20240828T014308Z
LAST-MODIFIED:20250215T072110Z
UID:10000066-1741219200-1741391999@westcoastfsa.com
SUMMARY:WCD No 2 Pros (no points)
DESCRIPTION:AR21
URL:https://westcoastfsa.com/event/no-2-pros-no-points-4/
LOCATION:St Petersburg Shuffleboard Club\, 559 Mirror Lake Dr. North\, St. Petersburg\, Florida\, 33701
CATEGORIES:WCD Tournament
END:VEVENT
BEGIN:VEVENT
DTSTART;VALUE=DATE:20250224
DTEND;VALUE=DATE:20250227
DTSTAMP:20260420T111142
CREATED:20240828T014406Z
LAST-MODIFIED:20250103T022809Z
UID:10000079-1740355200-1740614399@westcoastfsa.com
SUMMARY:FSA Open M/L Doubles
DESCRIPTION:P22B
URL:https://westcoastfsa.com/event/m-l-doubles-5/
LOCATION:St Petersburg Shuffleboard Club\, 559 Mirror Lake Dr. North\, St. Petersburg\, Florida\, 33701
CATEGORIES:Florida State Pro Tournament
END:VEVENT
END:VCALENDAR