BEGIN:VCALENDAR
VERSION:2.0
PRODID:-//Florida West Coast District Shuffleboard Association - ECPv6.15.20//NONSGML v1.0//EN
CALSCALE:GREGORIAN
METHOD:PUBLISH
X-ORIGINAL-URL:https://westcoastfsa.com
X-WR-CALDESC:Events for Florida West Coast District Shuffleboard Association
REFRESH-INTERVAL;VALUE=DURATION:PT1H
X-Robots-Tag:noindex
X-PUBLISHED-TTL:PT1H
BEGIN:VTIMEZONE
TZID:America/New_York
BEGIN:DAYLIGHT
TZOFFSETFROM:-0500
TZOFFSETTO:-0400
TZNAME:EDT
DTSTART:20250309T070000
END:DAYLIGHT
BEGIN:STANDARD
TZOFFSETFROM:-0400
TZOFFSETTO:-0500
TZNAME:EST
DTSTART:20251102T060000
END:STANDARD
BEGIN:DAYLIGHT
TZOFFSETFROM:-0500
TZOFFSETTO:-0400
TZNAME:EDT
DTSTART:20260308T070000
END:DAYLIGHT
BEGIN:STANDARD
TZOFFSETFROM:-0400
TZOFFSETTO:-0500
TZNAME:EST
DTSTART:20261101T060000
END:STANDARD
BEGIN:DAYLIGHT
TZOFFSETFROM:-0500
TZOFFSETTO:-0400
TZNAME:EDT
DTSTART:20270314T070000
END:DAYLIGHT
BEGIN:STANDARD
TZOFFSETFROM:-0400
TZOFFSETTO:-0500
TZNAME:EST
DTSTART:20271107T060000
END:STANDARD
END:VTIMEZONE
BEGIN:VEVENT
DTSTART;VALUE=DATE:20260209
DTEND;VALUE=DATE:20260210
DTSTAMP:20260422T054540
CREATED:20250214T124920Z
LAST-MODIFIED:20250214T124920Z
UID:10000213-1770595200-1770681599@westcoastfsa.com
SUMMARY:L02 Sterling League Tournament (Mon)
DESCRIPTION:Local (L) shuffleboard tournament\, hosted by the West Coast District of the FSA.
URL:https://westcoastfsa.com/event/l02-sterling-league-tournament-mon/
LOCATION:Clearwater Shuffleboard Club\, 1020 Calumet St.\, Clearwater\, Florida\, 33755
CATEGORIES:Local Tournament
END:VEVENT
BEGIN:VEVENT
DTSTART;TZID=America/New_York:20260211T100000
DTEND;TZID=America/New_York:20260211T100000
DTSTAMP:20260422T054540
CREATED:20260114T123246Z
LAST-MODIFIED:20260114T123246Z
UID:10000233-1770804000-1770804000@westcoastfsa.com
SUMMARY:WCD Board Meeting
DESCRIPTION:Open Board Meeting of the West Coast District of the Florida Shuffleboard Association. 10:00 AM to about noon. At Ranch Mobile Home Park\, 218 Lake Rd\, Clearwater. At the courts or nearby pavilion.
URL:https://westcoastfsa.com/event/wcd-board-meeting-4/
LOCATION:Ranch Mobile Home Park\, 218 Lake Road\, Clearwater\, FL\, 33764\, United States
END:VEVENT
BEGIN:VEVENT
DTSTART;VALUE=DATE:20260212
DTEND;VALUE=DATE:20260214
DTSTAMP:20260422T054540
CREATED:20250214T124719Z
LAST-MODIFIED:20250214T124719Z
UID:10000205-1770854400-1771027199@westcoastfsa.com
SUMMARY:AR20 No 2 Pros (no points)    Carl Rogerson Roundup
DESCRIPTION:Area (AR) shuffleboard tournament\, hosted by the West Coast District of the FSA.
URL:https://westcoastfsa.com/event/ar20-no-2-pros-no-points-carl-rogerson-roundup/
LOCATION:Clearwater Shuffleboard Club\, 1020 Calumet St.\, Clearwater\, Florida\, 33755
CATEGORIES:WCD Tournament
END:VEVENT
END:VCALENDAR