BEGIN:VCALENDAR
VERSION:2.0
PRODID:spatie/icalendar-generator
DESCRIPTION:Events from Florida West Coast District Shuffleboard Associatio
 n
X-WR-CALDESC:Events from Florida West Coast District Shuffleboard Associati
 on
REFRESH-INTERVAL;VALUE=DURATION:PT1440M
X-PUBLISHED-TTL:PT1440M
BEGIN:VTIMEZONE
TZID:America/New_York
BEGIN:STANDARD
DTSTART:20251102T020000Z
TZOFFSETFROM:-0400
TZOFFSETTO:-0500
END:STANDARD
BEGIN:DAYLIGHT
DTSTART:20260308T020000Z
TZOFFSETFROM:-0500
TZOFFSETTO:-0400
END:DAYLIGHT
END:VTIMEZONE
BEGIN:VTIMEZONE
TZID:UTC
BEGIN:STANDARD
DTSTART:20250725T093703Z
TZOFFSETFROM:+0000
TZOFFSETTO:+0000
END:STANDARD
END:VTIMEZONE
BEGIN:VEVENT
UID:70-62
DTSTAMP:20260421T093703Z
SUMMARY:D04 Am Singles
LOCATION:St Petersburg Shuffleboard Club 559 Mirror Lake Dr. N.  St Petersb
 urg FL 33701
ORGANIZER;CN=West Coast District FSA:MAILTO:news.westcoastfsa@gmail.com
DTSTART;TZID=America/New_York:20260321T090000
DTEND;TZID=America/New_York:20260321T100000
X-ALT-DESC;FMTTYPE=TEXT/HTML:<p>D04 WCD Am Singles Shuffleboard Tournament</p>\n
CATEGORIES:District Pro/Am (D),  All FSA Tournaments,  All WCD-Only Tournam
 ents
URL;VALUE=URI:https://westcoastfsa.com/mc-events/d04-am-singles-2/
METHOD:PUBLISH
END:VEVENT
END:VCALENDAR